Package: NanoStringNCTools Version: 1.15.0 Command: /home/biocbuild/R/R/bin/R CMD INSTALL NanoStringNCTools StartedAt: 2025-01-29 20:04:32 -0000 (Wed, 29 Jan 2025) EndedAt: 2025-01-29 20:04:55 -0000 (Wed, 29 Jan 2025) EllapsedTime: 22.8 seconds RetCode: 0 Status: OK