Package: NanoStringNCTools Version: 1.15.0 Command: rm -rf NanoStringNCTools.buildbin-libdir && mkdir NanoStringNCTools.buildbin-libdir && /Users/biocbuild/BBS/utils/build-universal.sh NanoStringNCTools_1.15.0.tar.gz /Library/Frameworks/R.framework/Resources/bin/R NanoStringNCTools.buildbin-libdir StartedAt: 2025-02-04 00:45:58 -0500 (Tue, 04 Feb 2025) EndedAt: 2025-02-04 00:46:24 -0500 (Tue, 04 Feb 2025) EllapsedTime: 26.5 seconds RetCode: 0 Status: OK PackageFile: NanoStringNCTools_1.15.0.tgz PackageFileSize: 944.4 KiB