Package: NanoStringNCTools Version: 1.15.0 Command: /Library/Frameworks/R.framework/Resources/bin/R CMD build --keep-empty-dirs --no-resave-data NanoStringNCTools StartedAt: 2025-02-09 17:42:21 -0500 (Sun, 09 Feb 2025) EndedAt: 2025-02-09 17:42:59 -0500 (Sun, 09 Feb 2025) EllapsedTime: 38.7 seconds RetCode: 0 Status: OK PackageFile: NanoStringNCTools_1.15.0.tar.gz PackageFileSize: 376.9 KiB