Package: NanoStringNCTools Version: 1.15.0 Command: rm -rf NanoStringNCTools.buildbin-libdir && mkdir NanoStringNCTools.buildbin-libdir && E:\biocbuild\bbs-3.21-bioc\R\bin\R.exe CMD INSTALL --build --library=NanoStringNCTools.buildbin-libdir NanoStringNCTools_1.15.0.tar.gz StartedAt: 2025-02-13 08:26:27 -0500 (Thu, 13 Feb 2025) EndedAt: 2025-02-13 08:29:08 -0500 (Thu, 13 Feb 2025) EllapsedTime: 160.8 seconds RetCode: 0 Status: OK PackageFile: NanoStringNCTools_1.15.0.zip PackageFileSize: 894.5 KiB