Package: NanoStringNCTools Version: 1.15.0 Command: chmod a+r NanoStringNCTools -R && E:\biocbuild\bbs-3.21-bioc\R\bin\R.exe CMD build --keep-empty-dirs --no-resave-data NanoStringNCTools StartedAt: 2025-02-09 20:17:40 -0500 (Sun, 09 Feb 2025) EndedAt: 2025-02-09 20:18:40 -0500 (Sun, 09 Feb 2025) EllapsedTime: 60.9 seconds RetCode: 0 Status: OK PackageFile: NanoStringNCTools_1.15.0.tar.gz PackageFileSize: 259.7 KiB