Package: Nebulosa Version: 1.17.0 Command: /home/biocbuild/R/R/bin/R CMD build --keep-empty-dirs --no-resave-data Nebulosa StartedAt: 2025-01-29 00:49:48 -0000 (Wed, 29 Jan 2025) EndedAt: 2025-01-29 00:54:35 -0000 (Wed, 29 Jan 2025) EllapsedTime: 287.3 seconds RetCode: 0 Status: OK PackageFile: Nebulosa_1.17.0.tar.gz PackageFileSize: 1.757 MiB