Package: Nebulosa Version: 1.17.0 Command: /home/biocbuild/bbs-3.21-bioc/R/bin/R CMD build --keep-empty-dirs --no-resave-data Nebulosa StartedAt: 2025-02-09 18:23:29 -0500 (Sun, 09 Feb 2025) EndedAt: 2025-02-09 18:27:11 -0500 (Sun, 09 Feb 2025) EllapsedTime: 222.3 seconds RetCode: 0 Status: OK PackageFile: Nebulosa_1.17.0.tar.gz PackageFileSize: 3.28 MiB