Package: Nebulosa Version: 1.17.0 Command: /home/biocbuild/bbs-3.21-bioc/R/bin/R CMD check --install=check:Nebulosa.install-out.txt --library=/home/biocbuild/bbs-3.21-bioc/R/site-library --timings Nebulosa_1.17.0.tar.gz StartedAt: 2025-02-05 00:52:33 -0500 (Wed, 05 Feb 2025) EndedAt: 2025-02-05 01:02:09 -0500 (Wed, 05 Feb 2025) EllapsedTime: 575.8 seconds RetCode: 0 Status: OK CheckDir: Nebulosa.Rcheck Warnings: 0