Package: Nebulosa Version: 1.17.0 Command: rm -rf Nebulosa.buildbin-libdir && mkdir Nebulosa.buildbin-libdir && E:\biocbuild\bbs-3.21-bioc\R\bin\R.exe CMD INSTALL --build --library=Nebulosa.buildbin-libdir Nebulosa_1.17.0.tar.gz StartedAt: 2025-02-05 08:28:29 -0500 (Wed, 05 Feb 2025) EndedAt: 2025-02-05 08:29:06 -0500 (Wed, 05 Feb 2025) EllapsedTime: 37.2 seconds RetCode: 0 Status: OK PackageFile: Nebulosa_1.17.0.zip PackageFileSize: 2.308 MiB