Package: Nebulosa Version: 1.17.0 Command: chmod a+r Nebulosa -R && E:\biocbuild\bbs-3.21-bioc\R\bin\R.exe CMD build --keep-empty-dirs --no-resave-data Nebulosa StartedAt: 2025-02-04 20:22:28 -0500 (Tue, 04 Feb 2025) EndedAt: 2025-02-04 20:26:49 -0500 (Tue, 04 Feb 2025) EllapsedTime: 261.3 seconds RetCode: 0 Status: OK PackageFile: Nebulosa_1.17.0.tar.gz PackageFileSize: 2.345 MiB