Package: Nebulosa Version: 1.17.0 Command: E:\biocbuild\bbs-3.21-bioc\R\bin\R.exe CMD check --no-multiarch --install=check:Nebulosa.install-out.txt --library=E:\biocbuild\bbs-3.21-bioc\R\library --no-vignettes --timings Nebulosa_1.17.0.tar.gz StartedAt: 2025-02-05 04:01:00 -0500 (Wed, 05 Feb 2025) EndedAt: 2025-02-05 04:04:53 -0500 (Wed, 05 Feb 2025) EllapsedTime: 233.2 seconds RetCode: 0 Status: OK CheckDir: Nebulosa.Rcheck Warnings: 0