Package: NetActivity Version: 1.9.0 Command: /Library/Frameworks/R.framework/Resources/bin/R CMD check --install=check:NetActivity.install-out.txt --library=/Library/Frameworks/R.framework/Resources/library --no-vignettes --timings NetActivity_1.9.0.tar.gz StartedAt: 2025-02-09 20:25:32 -0500 (Sun, 09 Feb 2025) EndedAt: 2025-02-09 20:26:56 -0500 (Sun, 09 Feb 2025) EllapsedTime: 84.0 seconds RetCode: 0 Status: OK CheckDir: NetActivity.Rcheck Warnings: 0