Package: NetActivity Version: 1.9.0 Command: /home/biocbuild/R/R/bin/R CMD build --keep-empty-dirs --no-resave-data NetActivity StartedAt: 2025-01-29 00:50:35 -0000 (Wed, 29 Jan 2025) EndedAt: 2025-01-29 00:51:57 -0000 (Wed, 29 Jan 2025) EllapsedTime: 82.1 seconds RetCode: 0 Status: OK PackageFile: NetActivity_1.9.0.tar.gz PackageFileSize: 420.4 KiB