Package: NetActivity Version: 1.9.0 Command: /home/biocbuild/R/R/bin/R CMD check --install=check:NetActivity.install-out.txt --library=/home/biocbuild/R/R/site-library --no-vignettes --timings NetActivity_1.9.0.tar.gz StartedAt: 2025-01-28 13:15:29 -0000 (Tue, 28 Jan 2025) EndedAt: 2025-01-28 13:21:35 -0000 (Tue, 28 Jan 2025) EllapsedTime: 365.8 seconds RetCode: 0 Status: OK CheckDir: NetActivity.Rcheck Warnings: 0