Package: NetActivity Version: 1.9.0 Command: /Library/Frameworks/R.framework/Resources/bin/R CMD build --keep-empty-dirs --no-resave-data NetActivity StartedAt: 2025-02-09 17:43:17 -0500 (Sun, 09 Feb 2025) EndedAt: 2025-02-09 17:44:34 -0500 (Sun, 09 Feb 2025) EllapsedTime: 77.6 seconds RetCode: 0 Status: OK PackageFile: NetActivity_1.9.0.tar.gz PackageFileSize: 437.6 KiB