Package: NetActivity Version: 1.9.0 Command: /Library/Frameworks/R.framework/Resources/bin/R CMD INSTALL NetActivity StartedAt: 2025-02-09 15:15:52 -0500 (Sun, 09 Feb 2025) EndedAt: 2025-02-09 15:16:25 -0500 (Sun, 09 Feb 2025) EllapsedTime: 32.9 seconds RetCode: 0 Status: OK