Package: NetActivity Version: 1.9.0 Command: /home/biocbuild/bbs-3.21-bioc/R/bin/R CMD check --install=check:NetActivity.install-out.txt --library=/home/biocbuild/bbs-3.21-bioc/R/site-library --timings NetActivity_1.9.0.tar.gz StartedAt: 2025-02-10 00:45:35 -0500 (Mon, 10 Feb 2025) EndedAt: 2025-02-10 00:49:54 -0500 (Mon, 10 Feb 2025) EllapsedTime: 259.3 seconds RetCode: 0 Status: OK CheckDir: NetActivity.Rcheck Warnings: 0