Package: NetActivity Version: 1.9.0 Command: /home/biocbuild/bbs-3.21-bioc/R/bin/R CMD INSTALL NetActivity StartedAt: 2025-02-09 15:30:16 -0500 (Sun, 09 Feb 2025) EndedAt: 2025-02-09 15:30:39 -0500 (Sun, 09 Feb 2025) EllapsedTime: 23.8 seconds RetCode: 0 Status: OK