Package: NetActivity Version: 1.9.0 Command: chmod a+r NetActivity -R && E:\biocbuild\bbs-3.21-bioc\R\bin\R.exe CMD build --keep-empty-dirs --no-resave-data NetActivity StartedAt: 2025-02-09 20:19:38 -0500 (Sun, 09 Feb 2025) EndedAt: 2025-02-09 20:21:02 -0500 (Sun, 09 Feb 2025) EllapsedTime: 83.3 seconds RetCode: 0 Status: OK PackageFile: NetActivity_1.9.0.tar.gz PackageFileSize: 345.1 KiB