Package: NetActivity Version: 1.9.0 Command: E:\biocbuild\bbs-3.21-bioc\R\bin\R.exe CMD check --no-multiarch --install=check:NetActivity.install-out.txt --library=E:\biocbuild\bbs-3.21-bioc\R\library --no-vignettes --timings NetActivity_1.9.0.tar.gz StartedAt: 2025-02-05 04:01:13 -0500 (Wed, 05 Feb 2025) EndedAt: 2025-02-05 04:05:30 -0500 (Wed, 05 Feb 2025) EllapsedTime: 257.2 seconds RetCode: 0 Status: OK CheckDir: NetActivity.Rcheck Warnings: 0