Package: NetPathMiner Version: 1.43.1 Command: /Library/Frameworks/R.framework/Resources/bin/R CMD build --keep-empty-dirs --no-resave-data NetPathMiner StartedAt: 2025-02-09 17:07:24 -0500 (Sun, 09 Feb 2025) EndedAt: 2025-02-09 17:07:36 -0500 (Sun, 09 Feb 2025) EllapsedTime: 12.1 seconds RetCode: 0 Status: OK PackageFile: NetPathMiner_1.43.1.tar.gz PackageFileSize: 2.485 MiB