Package: NetPathMiner Version: 1.43.1 Command: /Library/Frameworks/R.framework/Resources/bin/R CMD check --install=check:NetPathMiner.install-out.txt --library=/Library/Frameworks/R.framework/Resources/library --no-vignettes --timings NetPathMiner_1.43.1.tar.gz StartedAt: 2025-02-09 20:25:56 -0500 (Sun, 09 Feb 2025) EndedAt: 2025-02-09 20:26:22 -0500 (Sun, 09 Feb 2025) EllapsedTime: 25.3 seconds RetCode: 0 Status: OK CheckDir: NetPathMiner.Rcheck Warnings: 0