Package: NetPathMiner Version: 1.43.1 Command: /Library/Frameworks/R.framework/Resources/bin/R CMD build --keep-empty-dirs --no-resave-data NetPathMiner StartedAt: 2025-02-03 17:42:02 -0500 (Mon, 03 Feb 2025) EndedAt: 2025-02-03 17:42:37 -0500 (Mon, 03 Feb 2025) EllapsedTime: 34.3 seconds RetCode: 0 Status: OK PackageFile: NetPathMiner_1.43.1.tar.gz PackageFileSize: 2.456 MiB