Package: NetPathMiner Version: 1.43.1 Command: /Library/Frameworks/R.framework/Resources/bin/R CMD INSTALL NetPathMiner StartedAt: 2025-02-03 15:10:03 -0500 (Mon, 03 Feb 2025) EndedAt: 2025-02-03 15:10:31 -0500 (Mon, 03 Feb 2025) EllapsedTime: 28.5 seconds RetCode: 0 Status: OK