Package: NetPathMiner Version: 1.43.1 Command: /home/biocbuild/bbs-3.21-bioc/R/bin/R CMD build --keep-empty-dirs --no-resave-data NetPathMiner StartedAt: 2025-02-09 18:24:32 -0500 (Sun, 09 Feb 2025) EndedAt: 2025-02-09 18:24:59 -0500 (Sun, 09 Feb 2025) EllapsedTime: 27.0 seconds RetCode: 0 Status: OK PackageFile: NetPathMiner_1.43.1.tar.gz PackageFileSize: 2.304 MiB