Package: NetPathMiner Version: 1.43.1 Command: /home/biocbuild/bbs-3.21-bioc/R/bin/R CMD check --install=check:NetPathMiner.install-out.txt --library=/home/biocbuild/bbs-3.21-bioc/R/site-library --timings NetPathMiner_1.43.1.tar.gz StartedAt: 2025-02-10 00:46:00 -0500 (Mon, 10 Feb 2025) EndedAt: 2025-02-10 00:47:05 -0500 (Mon, 10 Feb 2025) EllapsedTime: 65.0 seconds RetCode: 0 Status: OK CheckDir: NetPathMiner.Rcheck Warnings: 0