Package: NetPathMiner Version: 1.43.1 Command: /home/biocbuild/bbs-3.21-bioc/R/bin/R CMD INSTALL NetPathMiner StartedAt: 2025-02-09 15:06:00 -0500 (Sun, 09 Feb 2025) EndedAt: 2025-02-09 15:06:17 -0500 (Sun, 09 Feb 2025) EllapsedTime: 16.9 seconds RetCode: 0 Status: OK