Package: NetSAM Version: 1.47.0 Command: /Library/Frameworks/R.framework/Resources/bin/R CMD INSTALL NetSAM StartedAt: 2025-02-12 15:38:03 -0500 (Wed, 12 Feb 2025) EndedAt: 2025-02-12 15:38:33 -0500 (Wed, 12 Feb 2025) EllapsedTime: 30.8 seconds RetCode: 0 Status: OK