Package: NetSAM Version: 1.47.0 Command: /home/biocbuild/bbs-3.21-bioc/R/bin/R CMD check --install=check:NetSAM.install-out.txt --library=/home/biocbuild/bbs-3.21-bioc/R/site-library --timings NetSAM_1.47.0.tar.gz StartedAt: 2025-02-13 00:47:32 -0500 (Thu, 13 Feb 2025) EndedAt: 2025-02-13 01:13:39 -0500 (Thu, 13 Feb 2025) EllapsedTime: 1566.5 seconds RetCode: 0 Status: OK CheckDir: NetSAM.Rcheck Warnings: 0