Package: NetSAM Version: 1.47.0 Command: /home/biocbuild/bbs-3.21-bioc/R/bin/R CMD INSTALL NetSAM StartedAt: 2025-02-09 15:42:51 -0500 (Sun, 09 Feb 2025) EndedAt: 2025-02-09 15:43:14 -0500 (Sun, 09 Feb 2025) EllapsedTime: 22.9 seconds RetCode: 0 Status: OK