Package: NewWave Version: 1.17.0 Command: /Library/Frameworks/R.framework/Resources/bin/R CMD build --keep-empty-dirs --no-resave-data NewWave StartedAt: 2025-02-03 17:43:45 -0500 (Mon, 03 Feb 2025) EndedAt: 2025-02-03 17:44:51 -0500 (Mon, 03 Feb 2025) EllapsedTime: 65.7 seconds RetCode: 0 Status: OK PackageFile: NewWave_1.17.0.tar.gz PackageFileSize: 98.22 KiB