Package: NewWave Version: 1.17.0 Command: /Library/Frameworks/R.framework/Resources/bin/R CMD check --install=check:NewWave.install-out.txt --library=/Library/Frameworks/R.framework/Resources/library --no-vignettes --timings NewWave_1.17.0.tar.gz StartedAt: 2025-02-03 21:02:56 -0500 (Mon, 03 Feb 2025) EndedAt: 2025-02-03 21:04:16 -0500 (Mon, 03 Feb 2025) EllapsedTime: 80.0 seconds RetCode: 0 Status: OK CheckDir: NewWave.Rcheck Warnings: 0