Package: NewWave Version: 1.17.0 Command: /home/biocbuild/R/R/bin/R CMD build --keep-empty-dirs --no-resave-data NewWave StartedAt: 2025-01-29 00:52:19 -0000 (Wed, 29 Jan 2025) EndedAt: 2025-01-29 00:56:23 -0000 (Wed, 29 Jan 2025) EllapsedTime: 243.4 seconds RetCode: 0 Status: OK PackageFile: NewWave_1.17.0.tar.gz PackageFileSize: 57.4 KiB