Package: NewWave Version: 1.17.0 Command: /home/biocbuild/R/R/bin/R CMD INSTALL NewWave StartedAt: 2025-01-29 20:27:52 -0000 (Wed, 29 Jan 2025) EndedAt: 2025-01-29 20:28:28 -0000 (Wed, 29 Jan 2025) EllapsedTime: 36.3 seconds RetCode: 0 Status: OK