Package: NewWave Version: 1.17.0 Command: rm -rf NewWave.buildbin-libdir && mkdir NewWave.buildbin-libdir && /Users/biocbuild/BBS/utils/build-universal.sh NewWave_1.17.0.tar.gz /Library/Frameworks/R.framework/Resources/bin/R NewWave.buildbin-libdir StartedAt: 2025-02-10 01:06:01 -0500 (Mon, 10 Feb 2025) EndedAt: 2025-02-10 01:06:40 -0500 (Mon, 10 Feb 2025) EllapsedTime: 39.3 seconds RetCode: 0 Status: OK PackageFile: NewWave_1.17.0.tgz PackageFileSize: 427.5 KiB