Package: NewWave Version: 1.17.0 Command: /Library/Frameworks/R.framework/Resources/bin/R CMD build --keep-empty-dirs --no-resave-data NewWave StartedAt: 2025-02-09 17:44:33 -0500 (Sun, 09 Feb 2025) EndedAt: 2025-02-09 17:47:51 -0500 (Sun, 09 Feb 2025) EllapsedTime: 197.8 seconds RetCode: 0 Status: OK PackageFile: NewWave_1.17.0.tar.gz PackageFileSize: 97.86 KiB