Package: NewWave Version: 1.17.0 Command: /Library/Frameworks/R.framework/Resources/bin/R CMD check --install=check:NewWave.install-out.txt --library=/Library/Frameworks/R.framework/Resources/library --no-vignettes --timings NewWave_1.17.0.tar.gz StartedAt: 2025-02-03 22:06:57 -0500 (Mon, 03 Feb 2025) EndedAt: 2025-02-03 22:10:44 -0500 (Mon, 03 Feb 2025) EllapsedTime: 226.3 seconds RetCode: 0 Status: OK CheckDir: NewWave.Rcheck Warnings: 0