Package: NewWave Version: 1.17.0 Command: /Library/Frameworks/R.framework/Resources/bin/R CMD INSTALL NewWave StartedAt: 2025-02-09 15:39:43 -0500 (Sun, 09 Feb 2025) EndedAt: 2025-02-09 15:40:21 -0500 (Sun, 09 Feb 2025) EllapsedTime: 37.8 seconds RetCode: 0 Status: OK