Package: NewWave Version: 1.17.0 Command: /home/biocbuild/bbs-3.21-bioc/R/bin/R CMD build --keep-empty-dirs --no-resave-data NewWave StartedAt: 2025-02-04 18:23:12 -0500 (Tue, 04 Feb 2025) EndedAt: 2025-02-04 18:26:08 -0500 (Tue, 04 Feb 2025) EllapsedTime: 176.3 seconds RetCode: 0 Status: OK PackageFile: NewWave_1.17.0.tar.gz PackageFileSize: 79.27 KiB