Package: NewWave Version: 1.17.0 Command: /home/biocbuild/bbs-3.21-bioc/R/bin/R CMD INSTALL NewWave StartedAt: 2025-02-04 15:50:59 -0500 (Tue, 04 Feb 2025) EndedAt: 2025-02-04 15:51:26 -0500 (Tue, 04 Feb 2025) EllapsedTime: 26.7 seconds RetCode: 0 Status: OK