Package: NewWave Version: 1.17.0 Command: rm -rf NewWave.buildbin-libdir && mkdir NewWave.buildbin-libdir && E:\biocbuild\bbs-3.21-bioc\R\bin\R.exe CMD INSTALL --build --library=NewWave.buildbin-libdir NewWave_1.17.0.tar.gz StartedAt: 2025-02-04 08:30:38 -0500 (Tue, 04 Feb 2025) EndedAt: 2025-02-04 08:31:39 -0500 (Tue, 04 Feb 2025) EllapsedTime: 61.1 seconds RetCode: 0 Status: OK PackageFile: NewWave_1.17.0.zip PackageFileSize: 382.9 KiB