Package: NewWave Version: 1.17.0 Command: E:\biocbuild\bbs-3.21-bioc\R\bin\R.exe CMD check --no-multiarch --install=check:NewWave.install-out.txt --library=E:\biocbuild\bbs-3.21-bioc\R\library --no-vignettes --timings NewWave_1.17.0.tar.gz StartedAt: 2025-02-04 04:05:37 -0500 (Tue, 04 Feb 2025) EndedAt: 2025-02-04 04:09:47 -0500 (Tue, 04 Feb 2025) EllapsedTime: 250.4 seconds RetCode: 0 Status: OK CheckDir: NewWave.Rcheck Warnings: 0