Package: NoRCE Version: 1.19.0 Command: /home/biocbuild/R/R/bin/R CMD build --keep-empty-dirs --no-resave-data NoRCE StartedAt: 2025-01-29 00:53:49 -0000 (Wed, 29 Jan 2025) EndedAt: 2025-01-29 00:55:08 -0000 (Wed, 29 Jan 2025) EllapsedTime: 78.2 seconds RetCode: 0 Status: OK PackageFile: NoRCE_1.19.0.tar.gz PackageFileSize: 2.025 MiB