Package: NoRCE Version: 1.19.0 Command: /home/biocbuild/R/R/bin/R CMD check --install=check:NoRCE.install-out.txt --library=/home/biocbuild/R/R/site-library --no-vignettes --timings NoRCE_1.19.0.tar.gz StartedAt: 2025-01-28 13:21:09 -0000 (Tue, 28 Jan 2025) EndedAt: 2025-01-28 13:29:16 -0000 (Tue, 28 Jan 2025) EllapsedTime: 487.2 seconds RetCode: 0 Status: WARNINGS CheckDir: NoRCE.Rcheck Warnings: 5