Package: NoRCE Version: 1.19.0 Command: /Library/Frameworks/R.framework/Resources/bin/R CMD build --keep-empty-dirs --no-resave-data NoRCE StartedAt: 2025-02-05 17:38:51 -0500 (Wed, 05 Feb 2025) EndedAt: 2025-02-05 17:40:11 -0500 (Wed, 05 Feb 2025) EllapsedTime: 79.5 seconds RetCode: 0 Status: OK PackageFile: NoRCE_1.19.0.tar.gz PackageFileSize: 2.025 MiB