Package: NoRCE Version: 1.19.0 Command: /Library/Frameworks/R.framework/Resources/bin/R CMD INSTALL NoRCE StartedAt: 2025-02-05 15:21:24 -0500 (Wed, 05 Feb 2025) EndedAt: 2025-02-05 15:22:17 -0500 (Wed, 05 Feb 2025) EllapsedTime: 52.6 seconds RetCode: 0 Status: OK