Package: NoRCE Version: 1.19.0 Command: /home/biocbuild/bbs-3.21-bioc/R/bin/R CMD build --keep-empty-dirs --no-resave-data NoRCE StartedAt: 2025-02-05 18:27:17 -0500 (Wed, 05 Feb 2025) EndedAt: 2025-02-05 18:28:14 -0500 (Wed, 05 Feb 2025) EllapsedTime: 57.2 seconds RetCode: 0 Status: OK PackageFile: NoRCE_1.19.0.tar.gz PackageFileSize: 2.025 MiB