Package: NoRCE Version: 1.19.0 Command: /home/biocbuild/bbs-3.21-bioc/R/bin/R CMD INSTALL NoRCE StartedAt: 2025-02-05 15:37:15 -0500 (Wed, 05 Feb 2025) EndedAt: 2025-02-05 15:37:56 -0500 (Wed, 05 Feb 2025) EllapsedTime: 41.5 seconds RetCode: 0 Status: OK