Package: NoRCE Version: 1.19.0 Command: rm -rf NoRCE.buildbin-libdir && mkdir NoRCE.buildbin-libdir && E:\biocbuild\bbs-3.21-bioc\R\bin\R.exe CMD INSTALL --build --library=NoRCE.buildbin-libdir NoRCE_1.19.0.tar.gz StartedAt: 2025-02-06 08:36:27 -0500 (Thu, 06 Feb 2025) EndedAt: 2025-02-06 08:37:29 -0500 (Thu, 06 Feb 2025) EllapsedTime: 62.3 seconds RetCode: 0 Status: OK PackageFile: NoRCE_1.19.0.zip PackageFileSize: 2.382 MiB