Package: NoRCE Version: 1.19.0 Command: chmod a+r NoRCE -R && E:\biocbuild\bbs-3.21-bioc\R\bin\R.exe CMD build --keep-empty-dirs --no-resave-data NoRCE StartedAt: 2025-02-04 20:24:13 -0500 (Tue, 04 Feb 2025) EndedAt: 2025-02-04 20:25:12 -0500 (Tue, 04 Feb 2025) EllapsedTime: 58.7 seconds RetCode: 0 Status: OK PackageFile: NoRCE_1.19.0.tar.gz PackageFileSize: 2.025 MiB